BEGIN:VCALENDAR
VERSION:2.0
PRODID:-//wp-events-plugin.com//6.6.2//EN
TZID:Asia/Kolkata
X-WR-TIMEZONE:Asia/Kolkata
BEGIN:VEVENT
UID:1178@map-india.org
DTSTART;TZID=Asia/Kolkata:20260222T163000
DTEND;TZID=Asia/Kolkata:20260222T180000
DTSTAMP:20260216T122403Z
URL:https://map-india.org/map-events/fright-night-quiz-hollywood-edition/
SUMMARY:Fright Night Quiz 2
DESCRIPTION:How well do you know your horror? Ace of Pubs is putting your k
 nowledge to the test — Bollywood scares vs. Hollywood frights\, all in o
 ne quiz night.\n\nTwo sessions. Two unique sets of questions. One chance t
 o prove you're the ultimate horror buff.\n📅 Session 1 — 21 February\n
 📅 Session 2 — 22 February\n\nPrizes\, bragging rights\, and a good sc
 are await. Register now.
ATTACH;FMTTYPE=image/jpeg:https://map-india.org/wp-content/uploads/2026/02
 /Website-cover-images-new-2026-02-16T173930.295.png
END:VEVENT
BEGIN:VTIMEZONE
TZID:Asia/Kolkata
X-LIC-LOCATION:Asia/Kolkata
BEGIN:STANDARD
DTSTART:20250222T163000
TZOFFSETFROM:+0530
TZOFFSETTO:+0530
TZNAME:IST
END:STANDARD
END:VTIMEZONE
END:VCALENDAR