BEGIN:VCALENDAR
VERSION:2.0
PRODID:-//wp-events-plugin.com//6.6.2//EN
TZID:Asia/Kolkata
X-WR-TIMEZONE:Asia/Kolkata
BEGIN:VEVENT
UID:1079@map-india.org
DTSTART;TZID=Asia/Kolkata:20251108T103000
DTEND;TZID=Asia/Kolkata:20251108T110000
DTSTAMP:20251105T110326Z
URL:https://map-india.org/map-events/feline-firsts-an-inaugural-walkthroug
 h/
SUMMARY:Feline Firsts: An Inaugural Walkthrough
DESCRIPTION:After many cat puns and spirited discussions\, MAP's exhibition
 \, The Many Lives of the Cat opens to the public on November 8th\, 2025. W
 e invite you for an exclusive first look with a guided walk led by curator
  Khushi Bansal.\n\nThrough Kalighat paintings\, miniatures\, and popular i
 magery\, this exhibition reveals how the cat has served as both muse and m
 irror—embodying humor\, critique\, and affection across cultures and cen
 turies.\n\nThis programme is in conjunction with the exhibition The Many 
 Lives of the Cat
ATTACH;FMTTYPE=image/jpeg:https://map-india.org/wp-content/uploads/2025/11
 /Website-cover-images-new-36.png
END:VEVENT
BEGIN:VTIMEZONE
TZID:Asia/Kolkata
X-LIC-LOCATION:Asia/Kolkata
BEGIN:STANDARD
DTSTART:20241108T103000
TZOFFSETFROM:+0530
TZOFFSETTO:+0530
TZNAME:IST
END:STANDARD
END:VTIMEZONE
END:VCALENDAR