BEGIN:VCALENDAR
VERSION:2.0
PRODID:-//wp-events-plugin.com//6.6.2//EN
TZID:Asia/Kolkata
X-WR-TIMEZONE:Asia/Kolkata
BEGIN:VEVENT
UID:1094@map-india.org
DTSTART;TZID=Asia/Kolkata:20251213T100000
DTEND;TZID=Asia/Kolkata:20251213T160000
DTSTAMP:20260224T084645Z
URL:https://map-india.org/map-events/family-day-third-edition/
SUMMARY:Family Day - Third Edition
DESCRIPTION:The year is wrapping up\, and we're celebrating with events the
  whole family will love. End 2025 on a high note with us! Make memories wi
 th your family at our festive lineup of events.\n\nBring your children\, n
 ieces and nephews\, grandkids and godchildren for a fun-filled day of lear
 ning\, games\, and activities. From hearing stories across the museum and 
 treasure hunts\, to playful activities in our exhibitions\, the day is pac
 ked with events designed especially for children. Wrap up the experience w
 ith a delightful theatre performance for young audiences. We’ve got the 
 whole day sorted—all you need is a child (or a few!) to join in. The mor
 e\, the merrier!\n\n\n\n&nbsp\;\n\nQuality Time with Rhythm n Rhyme (Ages 
 1 to 5)\n\n10:00-11:00 AM  (Session 1)\n1:00-2:00 PM      (Session 2)\
 n\nBring your toddler or young child (up to 6 years) for an hour of dancin
 g\, singing\, and interactive fun—parents can join in too!\n\nBob the Bu
 ilder with Troy World (Ages 6 to 10)\n\n11:30 AM - 12:30 PM  (Session 1)\
 n2:30 PM - 3:30 PM    (Session 2)\n\nBuild\, stack\, create! With Troy W
 orld's wooden blocks\, kids can construct sky-high giraffes\, roaring dino
 saurs\, or anything their imagination dreams up.\n\nJourney Through the Re
 alms (Ages 8 to 12)\n\n11:00 AM - 12:00 PM (Session 1)\n1:00-2:00 PM    
           (Session 2)\n\nTravel through the five realms of air\, land
 \, water\, the in-between and the celestial\, and discover what each compa
 nion reveals about deities\, the world\, and our lives. \n\nBond Through 
 Sign Language (All ages)\n\n12:00 PM-1:00 PM\n\nJoin our Indian Sign Langu
 age session for beginners hosted by Madhur Arora from the MAP team. Learn 
 words in sign language related to family\, art\, culture and more.\n\nThe 
 Great Tikat Hunt (8 to 15)\n\n10:00 AM - 3:00 PM\n\nUnleash your inner det
 ective as you embark on a thrilling quest to find hidden clues scattered t
 hroughout the exhibition Ticket Tika Chaap. Are you ready to take on the c
 hallenge? Let the hunt begin!\n\nCrabbby by Ranga Shankara’s AHA! (All a
 ges)\n\n3:00-4:00 PM\n\nDirected by S. Surendranath\, this story follows C
 rabby and Storky\, enemies turned friends\, as they come together to rescu
 e their pond. When townspeople keep throwing garbage into their home\, Cra
 bby comes up with a brilliant idea to save it. From Ranga Shankara's AHA!\
 , this show is for everyone- from cute battanis to cool colony uncles!!\n\
 nPause and Play (5 to 15)\n\n11:00AM - 3:00PM\n\nA family activity zone to
  slow down\, make\, and share time together. Hop between stations for colo
 uring\, crafting clay dolls or pebble painting. \n\nFace Art Fun (5 to 15
 )\n\n11:00AM - 3:00PM\n\nTransform little faces into works of art! Parents
  and guardians can use skin-safe colors to create designs together at the 
 face painting station.\n\nBringing You Stories! (All ages)\n\n10:15 - 11:0
 0 AM (Session 1)\n12:15 - 1:00 PM   (Session 2)\n2:00 - 2:45 PM   (Ses
 sion 3)\n\nFollow the voices! Kathalaya Storytellers are scattered across 
 the museum\, ready to whisk you away to magical places. Perfect for making
  new family memories while reliving old ones.\n\nPlease note that some eve
 nts have limited capacity per session\, but multiple time slots are availa
 ble so everyone has a chance to participate! Here is a list of FAQS for t
 he queries you may have.
ATTACH;FMTTYPE=image/jpeg:https://map-india.org/wp-content/uploads/2025/11
 /FD_Dec13_25_website-02-02-scaled.jpg
END:VEVENT
BEGIN:VTIMEZONE
TZID:Asia/Kolkata
X-LIC-LOCATION:Asia/Kolkata
BEGIN:STANDARD
DTSTART:20241213T100000
TZOFFSETFROM:+0530
TZOFFSETTO:+0530
TZNAME:IST
END:STANDARD
END:VTIMEZONE
END:VCALENDAR