BEGIN:VCALENDAR
VERSION:2.0
PRODID:-//wp-events-plugin.com//6.6.2//EN
TZID:Asia/Kolkata
X-WR-TIMEZONE:Asia/Kolkata
BEGIN:VEVENT
UID:1151@map-india.org
DTSTART;TZID=Asia/Kolkata:20260208T100000
DTEND;TZID=Asia/Kolkata:20260208T173000
DTSTAMP:20260202T103301Z
URL:https://map-india.org/map-events/family-day-fourth-edition/
SUMMARY:Family Day - Fourth Edition
DESCRIPTION:Sunday\, Fun Day\, Family Day—A day at the museum where famil
 ies can play board games\, get messy making clay pots\, experience immersi
 ve art\, and more.\n\nThe year has just begun\, and we're celebrating with
  events the whole family will love. Join us for the fourth edition of Fami
 ly Day and kick off 2026 with joy\, laughter\, and creativity!\n\n&nbsp\;\
 n\nLong\, long ago... (Open for all age groups)\n\n10:00 AM - 02:30 PM\n\n
 Bangalore Storytelling Society are taking us across time to different land
 s through stories that bring the museum artworks to life.\n\n&nbsp\;\n\nSh
 ells Out\, Game On (Open for all age groups)\n\n10:00 AM - 12:00 PM\n\nRea
 dy for an energetic morning of aata with Kavade? Re-live your childhood me
 mories and start new traditions with young ones with ancient board games o
 pen for all ages.\n\n&nbsp\;\n\nPottery (5+)\n\n11:00 AM - 01:00 PM\n\nGet
  creative. Get messy. Make pots with Lokesh\, the potter\, and take home y
 our masterpiece made with clay.\n\n&nbsp\;\n\nPurr-Fect Pages! (8+)\n\n11:
 30 AM - 12:30 PM (Session 1)\n\n02:00 PM - 03:00 PM (Session 2)\n\nCreate 
 a handmade zine using your own cat tales with Samyuktha Rao’s help.\n\n&
 nbsp\;\n\nThe Great Tikat Hunt (8-16)\n\n10:00 AM - 03:00 PM\n\nUnleash yo
 ur inner detective as you embark on a thrilling quest to find hidden clues
  scattered throughout the Ticket Tika Chaap exhibition. Are you ready to t
 ake on the challenge? Let the hunt begin!\n\n&nbsp\;\n\nScavenger Hunt: Mu
 seum-Wide Adventure! (8-16)\n\n12:00 PM - 03:00 PM\n\nTurn the museum into
  your playground with our lively scavenger hunt! Perfect for all ages\, th
 is adventure will lead you through galleries and hidden corners using clev
 er clues and fun challenges.\n\n&nbsp\;\n\nImmersive Experiences (Open for
  all age groups)\n\n01:00 PM - 02:00 PM (Session 1)\n\n04:30 PM - 05:30 PM
  (Session 2)\n\nExperience the immersive\, digital experiences at the muse
 um. Step into a painting\, interact with MF Hussain\, or turn your favouri
 te image into an engaging digital artwork!\n\n&nbsp\;\n\nArt Through Touch
  (6+)\n\n12:00 PM - 01:30 PM\n\nLet the child(ren) create an animal or bir
 d using craft and their imagination. In this workshop facilitated by Poong
 odi Mathiarasu\, children will make hands-on work inspired by Beneath the 
 Turning Sky.\n\n&nbsp\;\n\nInteraction with Play (5+)\n\n02:00 PM - 03:30 
 PM\n\nYou and your children can become climate heroes! Work together on th
 is thrilling board game and find more about the themes in our latest exhib
 ition Beneath the Turning Sky. Who knows\, this might just inspire the nex
 t generation of climate leaders! This is facilitated by Ujjvala.\n\n&nbsp\
 ;\n\nSirocco and the Kingdom of Winds\n\n02:00 PM - 03:30 PM\n\nSisters Ju
 liette and Carmen discover a secret passage to the Kingdom of Air Currents
 \, where they are transformed into cats\, separated and must summon their 
 bravery to unite. Watch this film as a family.\n\n&nbsp\;\n\nBag Dancing (
 Open for all age groups)\n\n03:30 PM - 04:30 PM\n\nBag Dancing is a touchi
 ng\, funny\, and quietly powerful play about two unlikely companions on th
 e margins of society. It is a celebration of resilience\, memory\, and the
  human capacity for joy\, even in the most precarious of lives.\n\n&nbsp\;
 \n\nPause &amp\; Play (Open for all age groups)\n\n10:00 AM - 02:00 PM\n\n
 Take a minute to pause and re-energise! Whether you like unleashing your c
 reativity through finger painting or enjoying a pleasant surprise\, there'
 s something for you to take home!\n\n&nbsp\;\n\nFood Court &amp\;  Dining
  (Open for all age groups)\n\n12:00 PM - 04:00 PM\n\nRest and recoup with 
 an array of healthy and kid-friendly food and drink options.\n\n&nbsp\;\n\
 nPlease note that some events have limited capacity per session. Here is a
  list of FAQS for the queries you may have.
ATTACH;FMTTYPE=image/jpeg:https://map-india.org/wp-content/uploads/2026/01
 /Website-cover-images-new-2026-01-29T103134.027.png
END:VEVENT
BEGIN:VTIMEZONE
TZID:Asia/Kolkata
X-LIC-LOCATION:Asia/Kolkata
BEGIN:STANDARD
DTSTART:20250208T100000
TZOFFSETFROM:+0530
TZOFFSETTO:+0530
TZNAME:IST
END:STANDARD
END:VTIMEZONE
END:VCALENDAR