BEGIN:VCALENDAR
VERSION:2.0
PRODID:-//wp-events-plugin.com//6.6.2//EN
TZID:Asia/Kolkata
X-WR-TIMEZONE:Asia/Kolkata
BEGIN:VEVENT
UID:933@map-india.org
DTSTART;TZID=Asia/Kolkata:20250629T110000
DTEND;TZID=Asia/Kolkata:20250629T190000
DTSTAMP:20250624T122110Z
URL:https://map-india.org/map-events/family-day-at-map/
SUMMARY:Family Day at MAP!
DESCRIPTION:Get ready for a day of laughter\, discovery\, and unforgettable
  memories at MAP's Family Day – a celebration of all the amazing people 
 who make up your unique family!\n\nBring your kids\, parents\, grandparent
 s\, nieces\, nephews\, friends–whomever you call family. This is a chanc
 e to create unforgettable memories together\, across generations. Whether 
 you're young or old\, there's curiosity\, wisdom\, and wonder to share at 
 every age. It's all about having fun together\, connecting\, and sharing m
 eaningful experiences as a family.\n\nJoin us at MAP for a day packed with
  captivating stories\, thrilling games\, and hands-on creative fun. You'll
  hear tales that bring artworks to life\, embark on an exciting scavenger 
 hunt\, challenge yourselves with ancient board games\, and unleash your cr
 eativity at our Make @ MAP workshop. And trust us\, that's just the beginn
 ing – there's so much more waiting to surprise and delight you!\n\nWrap 
 up your day with a cheerful theatre show and capture those perfect moments
  at our photo booth. So come on over\, hit the slow-mo button\, and let us
  handle all the fun!\n\nFamily Day Programmes:\n\n- Ancient Board Games: A
  Blast from the Past!\n- Make @ MAP: Craft Your Family Story!\n- Photo-(p)
 op: Strike a Pose\, Make a Memory!\n- Scavenger Hunt: Museum-Wide Adventur
 e!\n- Storytelling with Vikram Sridhar: Stories Between the Lines\n- Conve
 rsations That Matter\n- All Hail The Trail\n- The Night we Found Magic
ATTACH;FMTTYPE=image/jpeg:https://map-india.org/wp-content/uploads/2025/06
 /5-scaled.jpg
END:VEVENT
BEGIN:VTIMEZONE
TZID:Asia/Kolkata
X-LIC-LOCATION:Asia/Kolkata
BEGIN:STANDARD
DTSTART:20240629T110000
TZOFFSETFROM:+0530
TZOFFSETTO:+0530
TZNAME:IST
END:STANDARD
END:VTIMEZONE
END:VCALENDAR