BEGIN:VCALENDAR
VERSION:2.0
PRODID:-//wp-events-plugin.com//6.6.2//EN
TZID:Asia/Kolkata
X-WR-TIMEZONE:Asia/Kolkata
BEGIN:VEVENT
UID:1047@map-india.org
DTSTART;TZID=Asia/Kolkata:20251012T110000
DTEND;TZID=Asia/Kolkata:20251012T193000
DTSTAMP:20251008T092422Z
URL:https://map-india.org/map-events/family-day-at-map-2/
SUMMARY:Family Day at MAP
DESCRIPTION:They say it takes a village to raise a child. This October\, we
 ’re calling that village made up of all the parents\, maamas and atthes\
 , daadas and daadis\, mom’s best friend and dad’s anna to come over to
  MAP and celebrate. Bring your children\, nieces and nephews\, grandkids a
 nd godchildren for a fun-filled day of exploration\, games\, and stories!\
 n\nFrom exciting quizzes and treasure hunts\, to playful walkthroughs of o
 ur exhibitions\, the day is packed with activities designed especially for
  children. Pause at special stations to listen\, play\, and discover toget
 her. Wrap up the experience with a delightful theatre performance for youn
 g audiences. We’ve got the whole day sorted—all you need is a child (o
 r a few!) to join in. The more\, the merrier!\n\nNote: Booking on this pag
 e will provide you with a Family Day Pass that gives you access to all the
  exhibitions and digital experiences. Certain events require separate regi
 strations (see below) as they have limited seats. Please ensure you regist
 er for those by clicking the links below.\nFamily Day Events\n\n- Pause &a
 mp\; Play\n- Bangalore Storytellers\n- Scavenger Hunt\n- The Great Tikat H
 unt\n- Sign Language 101 - requires registration\n- Roots and Wings – A 
 LooRoo Morning at MAP Learn with LooRoo - requires registration\n- Drum Ja
 m - requires registration\n- From Fable to Folk - requires registration\n-
  Wheel of Feelings - requires registration\n- Material Matters -requires r
 egistration\n- Who Has Got Your Back?- requires registration\n- Chippi the
  Chipkali - requires registration\n\nCreate core childhood memories this f
 estive season and celebrate with your village at MAP.
ATTACH;FMTTYPE=image/jpeg:https://map-india.org/wp-content/uploads/2025/10
 /1440x810-2-1-scaled.jpg
END:VEVENT
BEGIN:VTIMEZONE
TZID:Asia/Kolkata
X-LIC-LOCATION:Asia/Kolkata
BEGIN:STANDARD
DTSTART:20241012T110000
TZOFFSETFROM:+0530
TZOFFSETTO:+0530
TZNAME:IST
END:STANDARD
END:VTIMEZONE
END:VCALENDAR