BEGIN:VCALENDAR
VERSION:2.0
PRODID:-//wp-events-plugin.com//6.6.2//EN
TZID:Asia/Kolkata
X-WR-TIMEZONE:Asia/Kolkata
BEGIN:VEVENT
UID:184@map-india.org
DTSTART;TZID=Asia/Kolkata:20210407T180000
DTEND;TZID=Asia/Kolkata:20210407T190000
DTSTAMP:20230313T061207Z
URL:https://map-india.org/map-events/exploring-bhuri-bai-my-life-as-an-art
 ist/
SUMMARY:Exploring Bhuri Bai – My Life as an Artist
DESCRIPTION:Hear directly from the curators of Bhuri Bai – My Life as an 
 Artist on the process of putting together the online exhibition and insigh
 ts gained while working with the artist\, as they present her work in the 
 context of indigenous art in India and the world.\n\nNarrated using the ar
 tists’ own words and autobiographical paintings\, combined with new rese
 arch\, this exhibition charts Bhuri Bai’s inspiring journey from growing
  up as a daily wage worker from a marginalised community to becoming a suc
 cessful contemporary artist.
ATTACH;FMTTYPE=image/jpeg:https://map-india.org/wp-content/uploads/2020/12
 /Cards-1440x810-03.jpg
END:VEVENT
BEGIN:VTIMEZONE
TZID:Asia/Kolkata
X-LIC-LOCATION:Asia/Kolkata
BEGIN:STANDARD
DTSTART:20200407T180000
TZOFFSETFROM:+0530
TZOFFSETTO:+0530
TZNAME:IST
END:STANDARD
END:VTIMEZONE
END:VCALENDAR