BEGIN:VCALENDAR
VERSION:2.0
PRODID:-//wp-events-plugin.com//6.6.2//EN
TZID:Asia/Kolkata
X-WR-TIMEZONE:Asia/Kolkata
BEGIN:VEVENT
UID:1039@map-india.org
DTSTART;TZID=Asia/Kolkata:20251012T140000
DTEND;TZID=Asia/Kolkata:20251012T150000
DTSTAMP:20251007T061756Z
URL:https://map-india.org/map-events/drum-jam/
SUMMARY:Drum Jam
DESCRIPTION:Drum up some excitement! Join us for a high-energy Drum Jam ses
 sion\, specially designed for kids aged 10-15. Let loose\, make some noise
 \, and groove to the rhythm with fellow young music enthusiasts.  This pr
 omises to be a fun-filled experience that will keep your energy pumping an
 d your spirits high. Come drum\, dance\, and make some unforgettable memor
 ies! This event is in collaboration with Beats Guru.\n\nThis event is part
  of the Family Day.
ATTACH;FMTTYPE=image/jpeg:https://map-india.org/wp-content/uploads/2025/09
 /WhatsApp-Image-2025-10-06-at-17.08.53_b8fb8b4a.jpg
END:VEVENT
BEGIN:VTIMEZONE
TZID:Asia/Kolkata
X-LIC-LOCATION:Asia/Kolkata
BEGIN:STANDARD
DTSTART:20241012T140000
TZOFFSETFROM:+0530
TZOFFSETTO:+0530
TZNAME:IST
END:STANDARD
END:VTIMEZONE
END:VCALENDAR