BEGIN:VCALENDAR
VERSION:2.0
PRODID:-//wp-events-plugin.com//6.6.2//EN
TZID:Asia/Kolkata
X-WR-TIMEZONE:Asia/Kolkata
BEGIN:VEVENT
UID:949@map-india.org
DTSTART;TZID=Asia/Kolkata:20250720T103000
DTEND;TZID=Asia/Kolkata:20250720T130000
DTSTAMP:20250714T115119Z
URL:https://map-india.org/map-events/draw-with-penciljam/
SUMMARY:Draw with PencilJam
DESCRIPTION:If you find joy in drawing intricate patterns or practicing obs
 ervational sketching\, we invite you to be part of this relaxed and inspir
 ing session. Set against the backdrop of the museum’s vibrant exhibits\,
  this gathering offers an open\, creative space for artists of all skill l
 evels. Whether you're looking to unwind through sketching\, discover new p
 erspectives\, or simply enjoy the act of drawing in a shared environment\,
  this is a chance to slow down and truly observe the world around you. Con
 nect with fellow art lovers\, exchange ideas\, and share your work in an i
 nformal\, supportive setting that celebrates creativity in all its forms.\
 n\nYou will need to carry your own:\n- Sketchbook or A4 paper\n- Pencil (w
 ood or mechanical) and eraser\n- Gel pens or fineliners for outlining\n- C
 olour brush pens\, sketch pens\, or colour pencils (no wet media)
ATTACH;FMTTYPE=image/jpeg:https://map-india.org/wp-content/uploads/2025/07
 /Website-Image-1440-x-810-13.png
END:VEVENT
BEGIN:VTIMEZONE
TZID:Asia/Kolkata
X-LIC-LOCATION:Asia/Kolkata
BEGIN:STANDARD
DTSTART:20240720T103000
TZOFFSETFROM:+0530
TZOFFSETTO:+0530
TZNAME:IST
END:STANDARD
END:VTIMEZONE
END:VCALENDAR