BEGIN:VCALENDAR
VERSION:2.0
PRODID:-//wp-events-plugin.com//6.6.2//EN
TZID:Asia/Kolkata
X-WR-TIMEZONE:Asia/Kolkata
BEGIN:VEVENT
UID:1077@map-india.org
DTSTART;TZID=Asia/Kolkata:20251109T140000
DTEND;TZID=Asia/Kolkata:20251109T170000
DTSTAMP:20251104T085030Z
URL:https://map-india.org/map-events/crochet-a-toy-for-your-cat/
SUMMARY:Crochet a toy for your cat
DESCRIPTION:Join us for a hands-on workshop inspired by our latest exhibiti
 on\, The Many Lives of the Cat. Learn how to create charming\, handmade to
 ys your feline friends will adore. Whether you’re a crochet novice or a 
 seasoned maker\, you’ll leave with a unique toy and the skills to craft 
 more at home. Just bring your creativity (and your cat’s playful spirit)
  to the workshop!\n\nThis programme is in conjunction with the exhibition
  The Many Lives of the Cat
ATTACH;FMTTYPE=image/jpeg:https://map-india.org/wp-content/uploads/2025/10
 /Website-cover-images-new-32.png
END:VEVENT
BEGIN:VTIMEZONE
TZID:Asia/Kolkata
X-LIC-LOCATION:Asia/Kolkata
BEGIN:STANDARD
DTSTART:20241109T140000
TZOFFSETFROM:+0530
TZOFFSETTO:+0530
TZNAME:IST
END:STANDARD
END:VTIMEZONE
END:VCALENDAR