BEGIN:VCALENDAR
VERSION:2.0
PRODID:-//wp-events-plugin.com//6.6.2//EN
TZID:Asia/Kolkata
X-WR-TIMEZONE:Asia/Kolkata
BEGIN:VEVENT
UID:930@map-india.org
DTSTART;TZID=Asia/Kolkata:20250629T140000
DTEND;TZID=Asia/Kolkata:20250629T160000
DTSTAMP:20250624T111202Z
URL:https://map-india.org/map-events/conversations-that-matter/
SUMMARY:Conversations That Matter
DESCRIPTION:Inspired by the evocative exhibition Vaanyerum Vizhuthugal: Roo
 ts that Reach for the Sky and guided by gentle prompts from our Art for Th
 ought toolkit\, we invite families to share wonderful stories\, cherished 
 memories\, and quiet reflections – conversations you might not often fin
 d time for. It's the perfect opportunity to deepen your connections and ma
 ybe even discover new things about each other!\n\nThe Art for Thought tool
 kit is a reflective resource that uses artwork and thought-provoking promp
 ts to spark meaningful conversations and self-discovery. Designed for all 
 ages\, it encourages mindful engagement with art to support emotional well
 -being and deeper dialogue.\n\nYou can also sign up for the guided walk of
  our exhibition VISIBLE/INVISIBLE by clicking here.
ATTACH;FMTTYPE=image/jpeg:https://map-india.org/wp-content/uploads/2025/06
 /6-2.png
END:VEVENT
BEGIN:VTIMEZONE
TZID:Asia/Kolkata
X-LIC-LOCATION:Asia/Kolkata
BEGIN:STANDARD
DTSTART:20240629T140000
TZOFFSETFROM:+0530
TZOFFSETTO:+0530
TZNAME:IST
END:STANDARD
END:VTIMEZONE
END:VCALENDAR