BEGIN:VCALENDAR
VERSION:2.0
PRODID:-//wp-events-plugin.com//6.6.2//EN
TZID:Asia/Kolkata
X-WR-TIMEZONE:Asia/Kolkata
BEGIN:VEVENT
UID:935@map-india.org
DTSTART;TZID=Asia/Kolkata:20250628T170000
DTEND;TZID=Asia/Kolkata:20250628T183000
DTSTAMP:20250624T042447Z
URL:https://map-india.org/map-events/community-check-in-9/
SUMMARY:Community Check-In
DESCRIPTION:Sitamgar\, Dnyansagar Press\, 1985\, Bombay (Mumbai)\, Maharash
 tra\, India\, Lithograph on paper\n\nHow do we preserve the melodies that 
 shape our lives? What do our personal playlists say about us\, and how mig
 ht they be remembered years from now?\n\nJoin us at our next Community Che
 ck-In\, where we dive into vintage song booklets from MAP’s collection
 —once sold in cinema halls during intermissions\, now turned into cheris
 hed souvenirs and artefacts. Produced in both portrait and landscape forma
 ts\, these ephemeral materials featured striking film posters\, cast and c
 rew details\, plot summaries\, and lyrics from the soundtrack—offering a
  fascinating glimpse into how music and cinema were consumed and remembere
 d.\n\nLet’s get inspired from these retro artefacts\, reflect on our own
  relationships with music and work together to create our own song booklet
 s that capture the soundtrack of our young lives today!\n\nThis event is o
 rganised in conjunction with Pulse\, MAP’s online youth journal\, and of
 fers a sneak peek into the theme of the upcoming Volume V: Soundtrack of O
 ur Lives. \n\nCrafted as part of MAP’s youth engagement initiatives\, Pu
 lse serves as a platform for young voices\; a collaborative and independen
 t space run by young adults for young adults to share their creative work 
 and practice.\n\nThis session is conducted as part of our engagements for 
 the MAP Youth Collective. The MAP Youth Collective is a community for youn
 g people (18-25 year olds) to engage with the arts and culture sector. The
  collective is for\, of and by young people — to explore our shared iden
 tities and interests through art.
ATTACH;FMTTYPE=image/jpeg:https://map-india.org/wp-content/uploads/2025/06
 /Website-Image-1440-x-810-3.png
END:VEVENT
BEGIN:VTIMEZONE
TZID:Asia/Kolkata
X-LIC-LOCATION:Asia/Kolkata
BEGIN:STANDARD
DTSTART:20240628T170000
TZOFFSETFROM:+0530
TZOFFSETTO:+0530
TZNAME:IST
END:STANDARD
END:VTIMEZONE
END:VCALENDAR