BEGIN:VCALENDAR
VERSION:2.0
PRODID:-//wp-events-plugin.com//6.6.2//EN
TZID:Asia/Kolkata
X-WR-TIMEZONE:Asia/Kolkata
BEGIN:VEVENT
UID:1042@map-india.org
DTSTART;TZID=Asia/Kolkata:20251012T183000
DTEND;TZID=Asia/Kolkata:20251012T193000
DTSTAMP:20251009T103453Z
URL:https://map-india.org/map-events/chippi-the-chipkali/
SUMMARY:Chippi the Chipkali
DESCRIPTION:One day\, Chippi the baby lizard is shooed away while playing. 
 People think it is scary and ugly. Shocked by this\, Chippi loses her tail
  and everyone starts teasing her by calling her names\, as she is now with
 out a tail. She feels very sorry for herself and goes  into a dark corner
 \, crying. She knows that she has to get a tail. So what does she do to ge
 t her tail? Will she ever get her tail back? Will she become beautiful aga
 in? Find out the rest of Chippi’s story and join us for this performance
  by Ranga Shankara AHA!\n\nThis event is part of the Family Day.
ATTACH;FMTTYPE=image/jpeg:https://map-india.org/wp-content/uploads/2025/09
 /Chippi-the-Chipkali-4-scaled.jpg
END:VEVENT
BEGIN:VTIMEZONE
TZID:Asia/Kolkata
X-LIC-LOCATION:Asia/Kolkata
BEGIN:STANDARD
DTSTART:20241012T183000
TZOFFSETFROM:+0530
TZOFFSETTO:+0530
TZNAME:IST
END:STANDARD
END:VTIMEZONE
END:VCALENDAR