BEGIN:VCALENDAR
VERSION:2.0
PRODID:-//wp-events-plugin.com//6.6.2//EN
TZID:Asia/Kolkata
X-WR-TIMEZONE:Asia/Kolkata
BEGIN:VEVENT
UID:484@map-india.org
DTSTART;TZID=Asia/Kolkata:20240522T180000
DTEND;TZID=Asia/Kolkata:20240522T180000
DTSTAMP:20240507T130420Z
URL:https://map-india.org/map-events/cancel-culture-self-preservation-in-a
 -digital-divisive-era/
SUMMARY:Cancel Culture: Self Preservation in a Digital\, Divisive Era
DESCRIPTION:Computer Class\, St. Joseph's High School\, Mysore\, 2001\, T. 
 S. Satyan\, 1923 - 2009\, Image: H. 22.9 cm\, W. 16.6 cm\; Paper: H. 23.9 
 cm\, W. 17.7 cm\, PHY.10068\nIn this edition of Reader's Bloc\, we explore
  cancel culture's impact and how social media blurs privacy. How can we pr
 otect ourselves from cancellation? Is social media eroding our privacy? \
 n\nRemember this session requires registration and we will see you all soo
 n! \n\nReadings related to the theme will be shared upon registration.\n\
 n&nbsp\;
ATTACH;FMTTYPE=image/jpeg:https://map-india.org/wp-content/uploads/2024/05
 /PHY.10068.webp
LOCATION:HDFC Ltd. Learning Centre\, Museum of Art & Photography\, 22 Kastu
 rba Road\, Bengaluru\, Karnataka\, 560001\, India
X-APPLE-STRUCTURED-LOCATION;VALUE=URI;X-ADDRESS=22 Kasturba Road\, Bengalur
 u\, Karnataka\, 560001\, India;X-APPLE-RADIUS=100;X-TITLE=HDFC Ltd. Learni
 ng Centre\, Museum of Art & Photography:geo:0,0
END:VEVENT
BEGIN:VTIMEZONE
TZID:Asia/Kolkata
X-LIC-LOCATION:Asia/Kolkata
BEGIN:STANDARD
DTSTART:20230523T180000
TZOFFSETFROM:+0530
TZOFFSETTO:+0530
TZNAME:IST
END:STANDARD
END:VTIMEZONE
END:VCALENDAR