BEGIN:VCALENDAR
VERSION:2.0
PRODID:-//wp-events-plugin.com//6.6.2//EN
TZID:Asia/Kolkata
X-WR-TIMEZONE:Asia/Kolkata
BEGIN:VEVENT
UID:1052@map-india.org
DTSTART;TZID=Asia/Kolkata:20251018T150000
DTEND;TZID=Asia/Kolkata:20251018T180000
DTSTAMP:20251013T125341Z
URL:https://map-india.org/map-events/calling-quiz-nerds/
SUMMARY:Calling Quiz Nerds
DESCRIPTION:Join us for an engaging afternoon of quizzing that celebrates t
 he world of museums\, art\, and photography! Presented in association with
  the Karnataka Quiz Association (KQA)\, this quiz explores subjects that n
 aturally inspire curiosity and discovery\, taking participants on a global
  cultural journey.\n\nYour hosts for the day are KQA veterans Mahendra Bal
 u and Thejaswi Udupa\, who bring decades of quizzing expertise to the podi
 um.\n\nCome ready to test your knowledge and discover fascinating stories 
 from the worlds of culture\, creativity\, and visual storytelling!
ATTACH;FMTTYPE=image/jpeg:https://map-india.org/wp-content/uploads/2025/10
 /WhatsApp-Image-2025-10-13-at-15.29.22_d7585084.jpg
END:VEVENT
BEGIN:VTIMEZONE
TZID:Asia/Kolkata
X-LIC-LOCATION:Asia/Kolkata
BEGIN:STANDARD
DTSTART:20241018T150000
TZOFFSETFROM:+0530
TZOFFSETTO:+0530
TZNAME:IST
END:STANDARD
END:VTIMEZONE
END:VCALENDAR