BEGIN:VCALENDAR
VERSION:2.0
PRODID:-//wp-events-plugin.com//6.6.2//EN
TZID:Asia/Kolkata
X-WR-TIMEZONE:Asia/Kolkata
BEGIN:VEVENT
UID:1254@map-india.org
DTSTART;TZID=Asia/Kolkata:20260425T113000
DTEND;TZID=Asia/Kolkata:20260425T133000
DTSTAMP:20260420T051846Z
URL:https://map-india.org/map-events/brewing-across-time/
SUMMARY:Brewing across Time
DESCRIPTION:Did you know that India began drinking coffee much before Europ
 e? Yet we recognise the beverage as a colonial import\, even in households
  where grandmothers brewed the beverage in brass filters. Coffee’s trade
  and cultivation in England’s colonies corresponds in stages with the bu
 ilding of its empire\, facilitating novel interactions between people\, pl
 ants and microbes\, radically reshaping ethnobotanical and cultural bounda
 ries.\n\nJoin us for a discussion around the fascinating story of coffee\,
  paired with a specially curated tasting menu of some of the finest brews 
 around.
ATTACH;FMTTYPE=image/jpeg:https://map-india.org/wp-content/uploads/2026/04
 /Website-cover-images-new-2026-04-17T102803.522.png
END:VEVENT
BEGIN:VTIMEZONE
TZID:Asia/Kolkata
X-LIC-LOCATION:Asia/Kolkata
BEGIN:STANDARD
DTSTART:20250425T113000
TZOFFSETFROM:+0530
TZOFFSETTO:+0530
TZNAME:IST
END:STANDARD
END:VTIMEZONE
END:VCALENDAR