BEGIN:VCALENDAR
VERSION:2.0
PRODID:-//wp-events-plugin.com//6.6.2//EN
TZID:Asia/Kolkata
X-WR-TIMEZONE:Asia/Kolkata
BEGIN:VEVENT
UID:332@map-india.org
DTSTART;TZID=Asia/Kolkata:20231029T190000
DTEND;TZID=Asia/Kolkata:20231029T203000
DTSTAMP:20231025T055131Z
URL:https://map-india.org/map-events/blue-material-an-all-dalit-stand-up-c
 omedy-show/
SUMMARY:Blue Material: An All Dalit Stand-up Comedy Show
DESCRIPTION:Blue comedy is a form of humour known for its provocative and a
 dult-themed content\, which may involve discussions of sensitive topics. T
 he colour blue is also associated with the anti-caste movement\, signifyin
 g the colour of the sky — a representation of non-discrimination\, that 
 under the sky\, everyone is believed to be equal. \n\nJoin us for Blue Ma
 terial\, a stand-up comedy show and collective with an all Dalit lineup. T
 he show is grounded within the personal as political\; we use humour to hi
 ghlight the realities of caste and intersecting forms of oppression. All t
 his is constructed within a plethora of well structured jokes. \n\nThis e
 vent is intended for mature audiences and may include language that some m
 ay find unconventional\, daring\, or immodest. The event will be bilingual
 \, featuring English and Hindi for various sets in the programme.\n\nThe p
 erformance has been curated under Living Cultures\, MAP’s public program
 ming theme for the quarter. Through this theme\, we explore practices and 
 evolution of cultures: shaping identity\, representing beliefs\, but also 
 reimagined and revived by new encounters and changing contexts.
ATTACH;FMTTYPE=image/jpeg:https://map-india.org/wp-content/uploads/2023/10
 /Image-1440x810-2.jpg
END:VEVENT
BEGIN:VTIMEZONE
TZID:Asia/Kolkata
X-LIC-LOCATION:Asia/Kolkata
BEGIN:STANDARD
DTSTART:20221029T190000
TZOFFSETFROM:+0530
TZOFFSETTO:+0530
TZNAME:IST
END:STANDARD
END:VTIMEZONE
END:VCALENDAR