BEGIN:VCALENDAR
VERSION:2.0
PRODID:-//wp-events-plugin.com//6.6.2//EN
TZID:Asia/Kolkata
X-WR-TIMEZONE:Asia/Kolkata
BEGIN:VEVENT
UID:1041@map-india.org
DTSTART;TZID=Asia/Kolkata:20251012T113000
DTEND;TZID=Asia/Kolkata:20251012T170000
DTSTAMP:20251007T061950Z
URL:https://map-india.org/map-events/bangalore-storytellers/
SUMMARY:Story Corner
DESCRIPTION:In collaboration with the Bangalore Storytelling Society\, this
  event is an immersive storytelling experience. Join us to meet the storyt
 ellers\, dressed in character\, as they regale you with stories inspired b
 y our artworks. Don't miss this unique opportunity to bond with your loved
  ones and get lost in the world of storytelling!\n\nThis is a drop-in sess
 ion. Registration is not required.\n\nThis event is part of the Family Day
 .
ATTACH;FMTTYPE=image/jpeg:https://map-india.org/wp-content/uploads/2025/09
 /PXL_20250831_1154347932-scaled-e1759139657100.jpg
END:VEVENT
BEGIN:VTIMEZONE
TZID:Asia/Kolkata
X-LIC-LOCATION:Asia/Kolkata
BEGIN:STANDARD
DTSTART:20241012T113000
TZOFFSETFROM:+0530
TZOFFSETTO:+0530
TZNAME:IST
END:STANDARD
END:VTIMEZONE
END:VCALENDAR