BEGIN:VCALENDAR
VERSION:2.0
PRODID:-//wp-events-plugin.com//6.6.2//EN
TZID:Asia/Kolkata
X-WR-TIMEZONE:Asia/Kolkata
BEGIN:VEVENT
UID:925@map-india.org
DTSTART;TZID=Asia/Kolkata:20250629T110000
DTEND;TZID=Asia/Kolkata:20250629T170000
DTSTAMP:20250620T094048Z
URL:https://map-india.org/map-events/ancient-board-games-a-blast-from-the-
 past/
SUMMARY:Ancient Board Games: A Blast from the Past!
DESCRIPTION:Image Credits: Ima reCreations\n\nSome games never get old — 
 and neither does the laughter they bring. Take a break from screens and re
 discover the simple joy of games that once filled long afternoons and fami
 ly evenings.\n\nBring your kids\, parents\, or that uncle who always claim
 s he let you win at Pagade — and challenge them again! Try your hand at 
 classics like Pallankuzhi\, Thayam (5 or 7 mane)\, Goat and Tiger\, Gilli 
 Danda\, and many more. Swap stories\, share tips\, and pass down a slice o
 f your childhood while making brand new memories together. After all\, som
 e of the best moments happen when generations gather around a game board. 
 Come roll the dice and let the good times play on!\n\nGames You Can Play:\
 n- Tower of Brahma\n- Star Game\n- Pallankuzhi / Alukuzhi mane\n- Thayam 5
  mane / 7 mane\n- Pagade\n- Goat and Tiger\n- County Chess\n- Alignment St
 rategy Game Navakangari\n- Fox and Geese\n- Alquer or Bhag Bakri
ATTACH;FMTTYPE=image/jpeg:https://map-india.org/wp-content/uploads/2025/06
 /1-9.png
END:VEVENT
BEGIN:VTIMEZONE
TZID:Asia/Kolkata
X-LIC-LOCATION:Asia/Kolkata
BEGIN:STANDARD
DTSTART:20240629T110000
TZOFFSETFROM:+0530
TZOFFSETTO:+0530
TZNAME:IST
END:STANDARD
END:VTIMEZONE
END:VCALENDAR