BEGIN:VCALENDAR
VERSION:2.0
PRODID:-//wp-events-plugin.com//6.6.2//EN
TZID:Asia/Kolkata
X-WR-TIMEZONE:Asia/Kolkata
BEGIN:VEVENT
UID:931@map-india.org
DTSTART;TZID=Asia/Kolkata:20250629T153000
DTEND;TZID=Asia/Kolkata:20250629T163000
DTSTAMP:20250624T111142Z
URL:https://map-india.org/map-events/all-hail-the-trail/
SUMMARY:All Hail The Trail
DESCRIPTION:This guided trail of the exhibition VISIBLE/INVISIBLE invites f
 amilies to see familiar artworks with fresh eyes while exploring the hidde
 n stories behind them. Along the way\, you’ll play\, hunt for details\, 
 and share thoughts and discoveries with each other — all through a hands
 -on trail designed to spark curiosity and conversation for all ages.\n\nSl
 ow down\, look closer\, and experience art not just by looking\, but by co
 nnecting\, asking\, and imagining together. A fun way to bond as a family 
 while making the galleries come alive!\n\nYou can also sign up for the gui
 ded walk of our exhibition Vaanyerum Vizhuthugal: Roots that Reach for the
  Sky by clicking here.
ATTACH;FMTTYPE=image/jpeg:https://map-india.org/wp-content/uploads/2025/06
 /7-3.png
END:VEVENT
BEGIN:VTIMEZONE
TZID:Asia/Kolkata
X-LIC-LOCATION:Asia/Kolkata
BEGIN:STANDARD
DTSTART:20240629T153000
TZOFFSETFROM:+0530
TZOFFSETTO:+0530
TZNAME:IST
END:STANDARD
END:VTIMEZONE
END:VCALENDAR