BEGIN:VCALENDAR
VERSION:2.0
PRODID:-//wp-events-plugin.com//6.6.2//EN
TZID:Asia/Kolkata
X-WR-TIMEZONE:Asia/Kolkata
BEGIN:VEVENT
UID:216@map-india.org
DTSTART;TZID=Asia/Kolkata:20230328T183000
DTEND;TZID=Asia/Kolkata:20230328T193000
DTSTAMP:20230320T234338Z
URL:https://map-india.org/map-events/a-look-at-vijayanagaras-first-great-p
 hotographer/
SUMMARY:A Look at Vijayanagara’s First Great Photographer: Alexander Gree
 nlaw
DESCRIPTION:Unearthing history through Alexander Greenlaw’s rich photogra
 phic archive with Dr. George Michell.
ATTACH;FMTTYPE=image/jpeg:https://map-india.org/wp-content/uploads/2023/03
 /2.jpg
LOCATION:Mazumdar-Shaw Auditorium\, Museum of Art & Photography\, 22 Kastur
 ba Road\, Bengaluru\, Karnataka\, 560001\, India
X-APPLE-STRUCTURED-LOCATION;VALUE=URI;X-ADDRESS=22 Kasturba Road\, Bengalur
 u\, Karnataka\, 560001\, India;X-APPLE-RADIUS=100;X-TITLE=Mazumdar-Shaw Au
 ditorium\, Museum of Art & Photography:geo:0,0
END:VEVENT
BEGIN:VTIMEZONE
TZID:Asia/Kolkata
X-LIC-LOCATION:Asia/Kolkata
BEGIN:STANDARD
DTSTART:20220328T183000
TZOFFSETFROM:+0530
TZOFFSETTO:+0530
TZNAME:IST
END:STANDARD
END:VTIMEZONE
END:VCALENDAR